BEGIN:VCALENDAR
VERSION:2.0
PRODID:-//Lake Cable - ECPv6.15.20//NONSGML v1.0//EN
CALSCALE:GREGORIAN
METHOD:PUBLISH
X-WR-CALNAME:Lake Cable
X-ORIGINAL-URL:https://lakecable.org
X-WR-CALDESC:Events for Lake Cable
REFRESH-INTERVAL;VALUE=DURATION:PT1H
X-Robots-Tag:noindex
X-PUBLISHED-TTL:PT1H
BEGIN:VTIMEZONE
TZID:UTC
BEGIN:STANDARD
TZOFFSETFROM:+0000
TZOFFSETTO:+0000
TZNAME:UTC
DTSTART:20190101T000000
END:STANDARD
END:VTIMEZONE
BEGIN:VEVENT
DTSTART;TZID=UTC:20200919T080000
DTEND;TZID=UTC:20200919T150000
DTSTAMP:20260424T090943
CREATED:20200805T164241Z
LAST-MODIFIED:20200911T030312Z
UID:594-1600502400-1600527600@lakecable.org
SUMMARY:Bass Tournament
DESCRIPTION:Same info on all – Entry Fee $10 per angler. 12 and Under Free. Open to all Members
URL:https://lakecable.org/event/bass-tournament-dates/2020-09-19/
CATEGORIES:non-re-occurring
ATTACH;FMTTYPE=image/jpeg:https://lakecable.org/wp-content/uploads/2020/08/fishing.jpg
END:VEVENT
END:VCALENDAR