BEGIN:VCALENDAR
VERSION:2.0
PRODID:-//Lake Cable - ECPv6.15.18//NONSGML v1.0//EN
CALSCALE:GREGORIAN
METHOD:PUBLISH
X-ORIGINAL-URL:https://lakecable.org
X-WR-CALDESC:Events for Lake Cable
REFRESH-INTERVAL;VALUE=DURATION:PT1H
X-Robots-Tag:noindex
X-PUBLISHED-TTL:PT1H
BEGIN:VTIMEZONE
TZID:America/New_York
BEGIN:DAYLIGHT
TZOFFSETFROM:-0500
TZOFFSETTO:-0400
TZNAME:EDT
DTSTART:20250309T070000
END:DAYLIGHT
BEGIN:STANDARD
TZOFFSETFROM:-0400
TZOFFSETTO:-0500
TZNAME:EST
DTSTART:20251102T060000
END:STANDARD
BEGIN:DAYLIGHT
TZOFFSETFROM:-0500
TZOFFSETTO:-0400
TZNAME:EDT
DTSTART:20260308T070000
END:DAYLIGHT
BEGIN:STANDARD
TZOFFSETFROM:-0400
TZOFFSETTO:-0500
TZNAME:EST
DTSTART:20261101T060000
END:STANDARD
BEGIN:DAYLIGHT
TZOFFSETFROM:-0500
TZOFFSETTO:-0400
TZNAME:EDT
DTSTART:20270314T070000
END:DAYLIGHT
BEGIN:STANDARD
TZOFFSETFROM:-0400
TZOFFSETTO:-0500
TZNAME:EST
DTSTART:20271107T060000
END:STANDARD
BEGIN:DAYLIGHT
TZOFFSETFROM:-0500
TZOFFSETTO:-0400
TZNAME:EDT
DTSTART:20280312T070000
END:DAYLIGHT
BEGIN:STANDARD
TZOFFSETFROM:-0400
TZOFFSETTO:-0500
TZNAME:EST
DTSTART:20281105T060000
END:STANDARD
END:VTIMEZONE
BEGIN:VEVENT
DTSTART;TZID=America/New_York:20260511T190000
DTEND;TZID=America/New_York:20260511T210000
DTSTAMP:20260420T062246
CREATED:20210505T025156Z
LAST-MODIFIED:20210505T025156Z
UID:5240-1778526000-1778533200@lakecable.org
SUMMARY:Water Quality Committee
DESCRIPTION:Meeting on the second Monday at 7pm.
URL:https://lakecable.org/event/water-quality-committee/2026-05-11/
ATTACH;FMTTYPE=image/jpeg:https://lakecable.org/wp-content/uploads/2021/05/GettyImages-696272668.jpg
END:VEVENT
BEGIN:VEVENT
DTSTART;TZID=America/New_York:20260608T190000
DTEND;TZID=America/New_York:20260608T210000
DTSTAMP:20260420T062246
CREATED:20210505T025156Z
LAST-MODIFIED:20210505T025156Z
UID:5427-1780945200-1780952400@lakecable.org
SUMMARY:Water Quality Committee
DESCRIPTION:Meeting on the second Monday at 7pm.
URL:https://lakecable.org/event/water-quality-committee/2026-06-08/
ATTACH;FMTTYPE=image/jpeg:https://lakecable.org/wp-content/uploads/2021/05/GettyImages-696272668.jpg
END:VEVENT
BEGIN:VEVENT
DTSTART;TZID=America/New_York:20260713T190000
DTEND;TZID=America/New_York:20260713T210000
DTSTAMP:20260420T062246
CREATED:20210505T025156Z
LAST-MODIFIED:20210505T025156Z
UID:5459-1783969200-1783976400@lakecable.org
SUMMARY:Water Quality Committee
DESCRIPTION:Meeting on the second Monday at 7pm.
URL:https://lakecable.org/event/water-quality-committee/2026-07-13/
ATTACH;FMTTYPE=image/jpeg:https://lakecable.org/wp-content/uploads/2021/05/GettyImages-696272668.jpg
END:VEVENT
BEGIN:VEVENT
DTSTART;TZID=America/New_York:20260810T190000
DTEND;TZID=America/New_York:20260810T210000
DTSTAMP:20260420T062246
CREATED:20210505T025156Z
LAST-MODIFIED:20210505T025156Z
UID:5491-1786388400-1786395600@lakecable.org
SUMMARY:Water Quality Committee
DESCRIPTION:Meeting on the second Monday at 7pm.
URL:https://lakecable.org/event/water-quality-committee/2026-08-10/
ATTACH;FMTTYPE=image/jpeg:https://lakecable.org/wp-content/uploads/2021/05/GettyImages-696272668.jpg
END:VEVENT
BEGIN:VEVENT
DTSTART;TZID=America/New_York:20260914T190000
DTEND;TZID=America/New_York:20260914T210000
DTSTAMP:20260420T062246
CREATED:20210505T025156Z
LAST-MODIFIED:20210505T025156Z
UID:5519-1789412400-1789419600@lakecable.org
SUMMARY:Water Quality Committee
DESCRIPTION:Meeting on the second Monday at 7pm.
URL:https://lakecable.org/event/water-quality-committee/2026-09-14/
ATTACH;FMTTYPE=image/jpeg:https://lakecable.org/wp-content/uploads/2021/05/GettyImages-696272668.jpg
END:VEVENT
BEGIN:VEVENT
DTSTART;TZID=America/New_York:20261012T190000
DTEND;TZID=America/New_York:20261012T210000
DTSTAMP:20260420T062246
CREATED:20210505T025156Z
LAST-MODIFIED:20210505T025156Z
UID:5543-1791831600-1791838800@lakecable.org
SUMMARY:Water Quality Committee
DESCRIPTION:Meeting on the second Monday at 7pm.
URL:https://lakecable.org/event/water-quality-committee/2026-10-12/
ATTACH;FMTTYPE=image/jpeg:https://lakecable.org/wp-content/uploads/2021/05/GettyImages-696272668.jpg
END:VEVENT
BEGIN:VEVENT
DTSTART;TZID=America/New_York:20261109T190000
DTEND;TZID=America/New_York:20261109T210000
DTSTAMP:20260420T062246
CREATED:20210505T025156Z
LAST-MODIFIED:20210505T025156Z
UID:5555-1794250800-1794258000@lakecable.org
SUMMARY:Water Quality Committee
DESCRIPTION:Meeting on the second Monday at 7pm.
URL:https://lakecable.org/event/water-quality-committee/2026-11-09/
ATTACH;FMTTYPE=image/jpeg:https://lakecable.org/wp-content/uploads/2021/05/GettyImages-696272668.jpg
END:VEVENT
BEGIN:VEVENT
DTSTART;TZID=America/New_York:20261214T190000
DTEND;TZID=America/New_York:20261214T210000
DTSTAMP:20260420T062246
CREATED:20210505T025156Z
LAST-MODIFIED:20210505T025156Z
UID:5583-1797274800-1797282000@lakecable.org
SUMMARY:Water Quality Committee
DESCRIPTION:Meeting on the second Monday at 7pm.
URL:https://lakecable.org/event/water-quality-committee/2026-12-14/
ATTACH;FMTTYPE=image/jpeg:https://lakecable.org/wp-content/uploads/2021/05/GettyImages-696272668.jpg
END:VEVENT
BEGIN:VEVENT
DTSTART;TZID=America/New_York:20270111T190000
DTEND;TZID=America/New_York:20270111T210000
DTSTAMP:20260420T062246
CREATED:20210505T025156Z
LAST-MODIFIED:20210505T025156Z
UID:5594-1799694000-1799701200@lakecable.org
SUMMARY:Water Quality Committee
DESCRIPTION:Meeting on the second Monday at 7pm.
URL:https://lakecable.org/event/water-quality-committee/2027-01-11/
ATTACH;FMTTYPE=image/jpeg:https://lakecable.org/wp-content/uploads/2021/05/GettyImages-696272668.jpg
END:VEVENT
BEGIN:VEVENT
DTSTART;TZID=America/New_York:20270208T190000
DTEND;TZID=America/New_York:20270208T210000
DTSTAMP:20260420T062246
CREATED:20210505T025156Z
LAST-MODIFIED:20210505T025156Z
UID:5610-1802113200-1802120400@lakecable.org
SUMMARY:Water Quality Committee
DESCRIPTION:Meeting on the second Monday at 7pm.
URL:https://lakecable.org/event/water-quality-committee/2027-02-08/
ATTACH;FMTTYPE=image/jpeg:https://lakecable.org/wp-content/uploads/2021/05/GettyImages-696272668.jpg
END:VEVENT
BEGIN:VEVENT
DTSTART;TZID=America/New_York:20270308T190000
DTEND;TZID=America/New_York:20270308T210000
DTSTAMP:20260420T062246
CREATED:20210505T025156Z
LAST-MODIFIED:20210505T025156Z
UID:5619-1804532400-1804539600@lakecable.org
SUMMARY:Water Quality Committee
DESCRIPTION:Meeting on the second Monday at 7pm.
URL:https://lakecable.org/event/water-quality-committee/2027-03-08/
ATTACH;FMTTYPE=image/jpeg:https://lakecable.org/wp-content/uploads/2021/05/GettyImages-696272668.jpg
END:VEVENT
BEGIN:VEVENT
DTSTART;TZID=America/New_York:20270412T190000
DTEND;TZID=America/New_York:20270412T210000
DTSTAMP:20260420T062246
CREATED:20210505T025156Z
LAST-MODIFIED:20210505T025156Z
UID:5631-1807556400-1807563600@lakecable.org
SUMMARY:Water Quality Committee
DESCRIPTION:Meeting on the second Monday at 7pm.
URL:https://lakecable.org/event/water-quality-committee/2027-04-12/
ATTACH;FMTTYPE=image/jpeg:https://lakecable.org/wp-content/uploads/2021/05/GettyImages-696272668.jpg
END:VEVENT
END:VCALENDAR